BEGIN:VCALENDAR
VERSION:2.0
PRODID:-//St Ives Guildhall - ECPv6.0.0//NONSGML v1.0//EN
CALSCALE:GREGORIAN
METHOD:PUBLISH
X-WR-CALNAME:St Ives Guildhall
X-ORIGINAL-URL:https://stivesguildhall.co.uk
X-WR-CALDESC:Events for St Ives Guildhall
REFRESH-INTERVAL;VALUE=DURATION:PT1H
X-Robots-Tag:noindex
X-PUBLISHED-TTL:PT1H
BEGIN:VTIMEZONE
TZID:Europe/London
BEGIN:DAYLIGHT
TZOFFSETFROM:+0000
TZOFFSETTO:+0100
TZNAME:BST
DTSTART:20230326T010000
END:DAYLIGHT
BEGIN:STANDARD
TZOFFSETFROM:+0100
TZOFFSETTO:+0000
TZNAME:GMT
DTSTART:20231029T010000
END:STANDARD
BEGIN:DAYLIGHT
TZOFFSETFROM:+0000
TZOFFSETTO:+0100
TZNAME:BST
DTSTART:20240331T010000
END:DAYLIGHT
BEGIN:STANDARD
TZOFFSETFROM:+0100
TZOFFSETTO:+0000
TZNAME:GMT
DTSTART:20241027T010000
END:STANDARD
BEGIN:DAYLIGHT
TZOFFSETFROM:+0000
TZOFFSETTO:+0100
TZNAME:BST
DTSTART:20250330T010000
END:DAYLIGHT
BEGIN:STANDARD
TZOFFSETFROM:+0100
TZOFFSETTO:+0000
TZNAME:GMT
DTSTART:20251026T010000
END:STANDARD
END:VTIMEZONE
BEGIN:VEVENT
DTSTART;TZID=Europe/London:20230910T200000
DTEND;TZID=Europe/London:20230910T230000
DTSTAMP:20260419T222355
CREATED:20230315T102738Z
LAST-MODIFIED:20230331T115654Z
UID:3744-1694376000-1694386800@stivesguildhall.co.uk
SUMMARY:Show of Hands
DESCRIPTION:The Show Of Hands duo – Steve Knightley and Phil Beer – return to The Guildhall for the first time since a magical final night at the 2019 St Ives September Festival. \nTheir success story includes selling out the Royal Albert Hall several times\, 25 album releases\, three BBC Folk Awards\, two honorary doctorates and beating Sir Francis Drake in a “greatest Devonians” poll. \nAfter appearing all over the world from Australia to India\, Germany to Canada\, the Netherlands to Hong Kong – plus festivals including Glastonbury\, WOMAD\, Cambridge and Celtic Connections – they broke new ground this year performing on a Mekong riverboat cruise from Vietnam to Cambodia. \nNow\, via their latest Albert Hall appearance\, they are returning to St Ives. \nBook Tickets \n  \n \nPlease note: The September Festival has a no refunds policy.
URL:https://stivesguildhall.co.uk/event/show-of-hands/
LOCATION:Guildhall St Ives\, Street-an-Pol\, St Ives\, Cornwall\, TR26 2DS\, United Kingdom
CATEGORIES:Live Music
ATTACH;FMTTYPE=image/png:https://stivesguildhall.co.uk/wp-content/uploads/2023/03/Website-3-e1678875988742.png
ORGANIZER;CN="September%20Festival":MAILTO:info@stivesseptemberfestival.co.uk
END:VEVENT
BEGIN:VEVENT
DTSTART;TZID=Europe/London:20230911T200000
DTEND;TZID=Europe/London:20230911T220000
DTSTAMP:20260419T222355
CREATED:20230314T125218Z
LAST-MODIFIED:20230331T115731Z
UID:3732-1694462400-1694469600@stivesguildhall.co.uk
SUMMARY:Kathryn Tickell & The Darkening
DESCRIPTION:Kathryn Tickell\, Northumbrian piper\, fiddle player\, composer\, educator and broadcaster\, has released 15 of her own albums and has also recorded and performed with Sting\, The Chieftains\, The Penguin Cafe Orchestra\, Evelyn Glennie\, Jacob Collier\, Andy Sheppard\, the Royal Northern Sinfonia and many others. \nShe has twice won “Musician of the Year” at the BBC Radio 2 Folk Awards and was awarded the OBE for services to folk music. \nKathryn and The Darkening bring some of the oldest Northumbrian tunes and songs throbbing to life with new material and attitude.\nThey are: \nKathryn Tickell – Northumbrian smallpipes\, fiddle\, voice \nAmy Thatcher – accordion\, synths\, voice\, clog dancing \nJosie Duncan – voice\, harp \nKieran Szifris – octave mandolin \nJoe Truswell – drums\, percussion \nBook Tickets \n \nPlease note: The September Festival has a no refunds policy.
URL:https://stivesguildhall.co.uk/event/kathryn-tickell-the-darkening/
LOCATION:Guildhall St Ives\, Street-an-Pol\, St Ives\, Cornwall\, TR26 2DS\, United Kingdom
CATEGORIES:Live Music
ATTACH;FMTTYPE=image/png:https://stivesguildhall.co.uk/wp-content/uploads/2023/03/Website-e1678798332321.png
ORGANIZER;CN="September%20Festival":MAILTO:info@stivesseptemberfestival.co.uk
END:VEVENT
BEGIN:VEVENT
DTSTART;TZID=Europe/London:20230914T200000
DTEND;TZID=Europe/London:20230914T220000
DTSTAMP:20260419T222355
CREATED:20230314T150416Z
LAST-MODIFIED:20230331T115810Z
UID:3738-1694721600-1694728800@stivesguildhall.co.uk
SUMMARY:Jackie Oates
DESCRIPTION:Jackie Oates\, contemporary folk treasure\, award-winning singer and fiddler\, will appear with multi-instrumentalist Mike Cosgrave. \nThey are on retrospective tour celebrating the re-release of Hyperboreans\, Jackie’s iconic 2009 coming-of-age album\, and will also include music from her ‘sublime’ 2022 album Gracious Wings. \nJackie\, winner of two BBC Radio 2 Folk Awards\, released eight solo albums between 2006 and 2022 as a central figure in the accomplished\, informed and stylistically individual English traditional music scene that began in the early 2000s and continues to thrive. \nOne of the country’s best-loved folk performers\, Jackie’s current focus is on collaborating with a diverse array of artists and commissions as she continues to perform concerts and make the solo records that rack up glowing reviews. \nBook Tickets \n \nPlease note: The September Festival has a no refunds policy.
URL:https://stivesguildhall.co.uk/event/jackie-oates/
LOCATION:Guildhall St Ives\, Street-an-Pol\, St Ives\, Cornwall\, TR26 2DS\, United Kingdom
CATEGORIES:Live Music
ATTACH;FMTTYPE=image/png:https://stivesguildhall.co.uk/wp-content/uploads/2023/03/Website-1-e1678806166500.png
ORGANIZER;CN="St%20Ives%20Guildhall":MAILTO:guildhall@stives-tc.gov.uk
END:VEVENT
BEGIN:VEVENT
DTSTART;TZID=Europe/London:20230915T200000
DTEND;TZID=Europe/London:20230915T220000
DTSTAMP:20260419T222355
CREATED:20230302T105828Z
LAST-MODIFIED:20230331T115832Z
UID:3645-1694808000-1694815200@stivesguildhall.co.uk
SUMMARY:Good Old Fashioned Lover Boys
DESCRIPTION:The Good Old Fashioned Lover Boys perform highlights from some of Queens legendary concerts\, including Live at The Rainbow\, Wembley 86 and their now fabled Live Aid performance in full. \nFaithfully recreating the music and the magic\, a fantastic family show not to be missed! \nThis will be a seated event. \nBook Tickets \nAdvance Tickets: £19\nOn the Door: £21 \n \nPlease note: The September Festival has a no refunds policy
URL:https://stivesguildhall.co.uk/event/good-old-fashioned-lover-boys/
LOCATION:Guildhall St Ives\, Street-an-Pol\, St Ives\, Cornwall\, TR26 2DS\, United Kingdom
CATEGORIES:Live Music
ATTACH;FMTTYPE=image/png:https://stivesguildhall.co.uk/wp-content/uploads/2023/03/Good-Old-Fashioned-Lover-Boys-Website-e1677754402335.png
ORGANIZER;CN="September%20Festival":MAILTO:info@stivesseptemberfestival.co.uk
END:VEVENT
BEGIN:VEVENT
DTSTART;TZID=Europe/London:20230918T200000
DTEND;TZID=Europe/London:20230918T220000
DTSTAMP:20260419T222355
CREATED:20230223T124801Z
LAST-MODIFIED:20230331T115920Z
UID:3618-1695067200-1695074400@stivesguildhall.co.uk
SUMMARY:Luka Bloom
DESCRIPTION:Don’t miss a rare UK opportunity to see world-travelled Irish singer-songwriter Luka Bloom as St Ives September Festival bring him to The Guildhall for his first-ever appearance in Cornwall. Bloom\, an amazing guitarist\, and incredible singer with a big following across Europe\, the USA and Australia is celebrating a 50-year musical journey. It began in 1972 when he wrote his first songs and was opening act for the original Planxty. \n“Writing songs\, recording them\, and performing them is all I have done for the past 50 years\,” says Luka\, a huge attraction in Europe\, the USA and around the globe. \nHe wrote City Of Chicago but cites his best known recordings on 25 albums as Riverside\, Acoustic Motorbike and Salty Heaven adding: “I just love my job. And since Covid\, I love my job more than ever.” \nBook Tickets \n \n  \n  \n  \nPlease note: The September Festival has a no refunds policy.
URL:https://stivesguildhall.co.uk/event/luka-bloom/
LOCATION:Guildhall St Ives\, Street-an-Pol\, St Ives\, Cornwall\, TR26 2DS\, United Kingdom
CATEGORIES:Live Music
ATTACH;FMTTYPE=image/jpeg:https://stivesguildhall.co.uk/wp-content/uploads/2023/02/Luka-Bloom-scaled-e1677156477243.jpg
ORGANIZER;CN="September%20Festival":MAILTO:info@stivesseptemberfestival.co.uk
END:VEVENT
BEGIN:VEVENT
DTSTART;TZID=Europe/London:20230920T200000
DTEND;TZID=Europe/London:20230920T200000
DTSTAMP:20260419T222355
CREATED:20230217T120106Z
LAST-MODIFIED:20230331T115941Z
UID:3589-1695240000-1695240000@stivesguildhall.co.uk
SUMMARY:The Three Degrees
DESCRIPTION:When you hear the name\, The Three Degrees\, you immediately think of their most famous song\, “When Will I See You Again”\, a major hit record throughout the world\, topping charts in the USA\, UK\, Japan and most European countries. It earned the trio every conceivable accolade not to mention enough Gold records to make Fort Knox envious! \nMore than five decades on\, The Three Degrees have retained their precise vocal qualities and amassed an impressive list of hit records. \nIn 1972\, they aligned their recording fate with Gamble and Huff’s Philadelphia International label and hit the charts with “Dirty Ol’ Man”. Soon after came “The Sound of Philadelphia”\, which featured the ladies with MFSB. \nThe following year produced their biggest hit ‘When Will I See You Again”. “The whole Philadelphia Sound was the brainchild of Kenny (Gamble) and Leon (Huff)\,” explains Valerie Holiday\, a Three Degree since 1967. “They wrote and produced most of the hits for Harold Melvin & The Blue Notes\, The O’Jays\, Billy Paul and The Jacksons among many others.” \nDuring their three years with Philadelphia International\, the hits kept coming with “Year Of Decision”\, “Take Good Care Of Yourself” and “Toast of Love” \nIt was during this era that Prince Charles – now King Charles – publicly acclaimed The Three Degrees as his favourite group – Charlie’s Angels as they were tagged! “It was a great feeling… a feeling of awe\,” recalls Valerie. \nIn 1978 they teamed up with Giorgio Moroder (of Donna Summer fame) and a new string of hits followed – “Giving Up\, Giving In”\, “My Simple Heart”\, “The Runner” and the lush ballad “Woman In Love”. \nThe Three Degrees\, the longest-running female vocal group in history\, show no signs of slowing down! \nThe Three Degrees are Valerie Holiday\, Freddie Pool and Tabitha King. Their St Ives show will include a support act. \nBook Tickets \n  \n \n  \n  \n  \nPlease note: The September Festival has a no refunds policy
URL:https://stivesguildhall.co.uk/event/the-three-degrees/
LOCATION:Guildhall St Ives\, Street-an-Pol\, St Ives\, Cornwall\, TR26 2DS\, United Kingdom
CATEGORIES:Live Music
ATTACH;FMTTYPE=image/png:https://stivesguildhall.co.uk/wp-content/uploads/2023/02/The-Three-Degrees-Website-e1676635050329.png
ORGANIZER;CN="September%20Festival":MAILTO:info@stivesseptemberfestival.co.uk
END:VEVENT
BEGIN:VEVENT
DTSTART;TZID=Europe/London:20230922T200000
DTEND;TZID=Europe/London:20230922T220000
DTSTAMP:20260419T222355
CREATED:20230316T134342Z
LAST-MODIFIED:20230316T134342Z
UID:3750-1695412800-1695420000@stivesguildhall.co.uk
SUMMARY:Skillywidden
DESCRIPTION:Legends of Cornish Celtic dance music Skillywidden pack dance floors across Cornwall with their take on the nos lowen style of Cornish dance music. \nThe line-up includes members of internationally acclaimed Cornish traditional music band Dalla on bouzouki\, fiddle\, clarinets\, viola and percussion\, with the addition of guest musicians drawn from the cream of Cornwall’s talent from other genres. \nTheir exhilarating performances convey the sheer joy they take in Cornwall’s indigenous culture. \nIt’s great music to listen to\, but if you feel like nos lowen dancing just jump up and follow the others – no previous experience needed! \n“Sublime …a kind of World Music with a Cornish accent” – Rock ‘n’ Reel\n“The music has a dervish quality that will grab the listener by the throat” –Folk and Roots \nBook Tickets \n  \n \nPlease note: The September Festival has a no refunds policy.
URL:https://stivesguildhall.co.uk/event/skillywidden/
LOCATION:Guildhall St Ives\, Street-an-Pol\, St Ives\, Cornwall\, TR26 2DS\, United Kingdom
CATEGORIES:Live Music
ATTACH;FMTTYPE=image/png:https://stivesguildhall.co.uk/wp-content/uploads/2023/03/Website-5-e1678974081470.png
ORGANIZER;CN="St%20Ives%20Guildhall":MAILTO:guildhall@stives-tc.gov.uk
END:VEVENT
BEGIN:VEVENT
DTSTART;TZID=Europe/London:20230923T200000
DTEND;TZID=Europe/London:20230923T220000
DTSTAMP:20260419T222355
CREATED:20230220T151142Z
LAST-MODIFIED:20230302T123542Z
UID:3609-1695499200-1695506400@stivesguildhall.co.uk
SUMMARY:The Bowie Lounge: Space Face
DESCRIPTION:In 2013\, artist\, writer and musician Keith Sparrow put together with some friends a unique show celebrating the work of David Bowie\, using music\, dance\, spoken word\, live painting and art. \nThe Bowie Lounge returned and evolved over each year following Bowie’s death in 2016\, and was last performed in December 2019. \nTo mark a decade since that first show\, The Bowie Lounge will return for a special performance at the Guildhall\, St Ives on September 23rd.\nThe Bowie Lounge seeks to engage people with David Bowie’s words and music in a way unlike any other show; not a tribute band\, but definitely a moving and exhilarating homage to perhaps the greatest rock star of his or any other era. \nBook Tickets \nAdvance Tickets: £19\nOn the Door: £21 \n  \n“Clever\, surprising\, dramatic – and\, just as importantly\, huge fun!”  – Nicholas Pegg (Author of THE COMPLETE DAVID BOWIE) \n“Thematically inventive\, boundary blurring theatre\, building on\, rather than retreading\, David Bowie’s legacy.” – David Bowie Glamour – The Fanzine \n“A strange and wonderful experience\, The Bowie Lounge blends music\, painting\, theatre and dance to create something which is joyful\, melancholic and really rather moving. I absolutely loved it.” – Mark Kermode (Film Critic) \n“What an extraordinary experience…visually and sonically overpowering and completely unique…still not really sure what I experienced but it and everyone involved was utterly brilliant.” – Mark Jenkin (Film-maker: Bait\, Enys Men) \n“Amazing production…seriously…get there!” – Easy Action Records \n  \n \n  \n  \n  \nPlease note: The September Festival has a no refunds policy
URL:https://stivesguildhall.co.uk/event/the-bowie-lounge-space-face/
LOCATION:Guildhall St Ives\, Street-an-Pol\, St Ives\, Cornwall\, TR26 2DS\, United Kingdom
CATEGORIES:Live Music
ATTACH;FMTTYPE=image/png:https://stivesguildhall.co.uk/wp-content/uploads/2023/02/The-Bowie-Lounge-e1676905896546.png
ORGANIZER;CN="September%20Festival":MAILTO:info@stivesseptemberfestival.co.uk
END:VEVENT
BEGIN:VEVENT
DTSTART;VALUE=DATE:20231001
DTEND;VALUE=DATE:20250601
DTSTAMP:20260419T222355
CREATED:20230719T152355Z
LAST-MODIFIED:20230720T085510Z
UID:4541-1696118400-1748735999@stivesguildhall.co.uk
SUMMARY:St Ives Guildhall Renewal Project 2023-25
DESCRIPTION:From October 2023 until Spring 2025\, the Hall will be closed for redevelopment. Details of the project can be found on our Future Page.
URL:https://stivesguildhall.co.uk/event/st-ives-guildhall-renewal-project-2023-25/
LOCATION:Guildhall St Ives\, Street-an-Pol\, St Ives\, Cornwall\, TR26 2DS\, United Kingdom
CATEGORIES:Live Music,Markets,Theatre
ATTACH;FMTTYPE=image/jpeg:https://stivesguildhall.co.uk/wp-content/uploads/2023/04/Header.jpg
ORGANIZER;CN="St%20Ives%20Guildhall":MAILTO:guildhall@stives-tc.gov.uk
END:VEVENT
END:VCALENDAR