BEGIN:VCALENDAR
VERSION:2.0
PRODID:-//St Ives Guildhall - ECPv6.0.0//NONSGML v1.0//EN
CALSCALE:GREGORIAN
METHOD:PUBLISH
X-ORIGINAL-URL:https://stivesguildhall.co.uk
X-WR-CALDESC:Events for St Ives Guildhall
REFRESH-INTERVAL;VALUE=DURATION:PT1H
X-Robots-Tag:noindex
X-PUBLISHED-TTL:PT1H
BEGIN:VTIMEZONE
TZID:Europe/London
BEGIN:DAYLIGHT
TZOFFSETFROM:+0000
TZOFFSETTO:+0100
TZNAME:BST
DTSTART:20230326T010000
END:DAYLIGHT
BEGIN:STANDARD
TZOFFSETFROM:+0100
TZOFFSETTO:+0000
TZNAME:GMT
DTSTART:20231029T010000
END:STANDARD
END:VTIMEZONE
BEGIN:VEVENT
DTSTART;TZID=Europe/London:20230719T100000
DTEND;TZID=Europe/London:20230719T160000
DTSTAMP:20260422T133510
CREATED:20230719T082251Z
LAST-MODIFIED:20230920T094714Z
UID:4227-1689760800-1689782400@stivesguildhall.co.uk
SUMMARY:St Ives Artisan Market
DESCRIPTION:With over 30 stalls the Artisan Market’s makers\, artists\, bakers and crafts people showcase the very best of Cornish small business creativity. \nWith every product that you purchase you know that you are supporting the small local artisan businesses to keep producing their designs\, makes and bakes.
URL:https://stivesguildhall.co.uk/event/artisan-market/2023-07-19/
LOCATION:Guildhall St Ives\, Street-an-Pol\, St Ives\, Cornwall\, TR26 2DS\, United Kingdom
CATEGORIES:Markets
ATTACH;FMTTYPE=image/png:https://stivesguildhall.co.uk/wp-content/uploads/2022/04/Image-5.png
ORGANIZER;CN="Artisan%20Markets%20Cornwall":MAILTO:artisanmarketscornwall@gmail.com
END:VEVENT
END:VCALENDAR